Workbook

Sheet Planilha1
A1: RELATÓRIO GLOBAL - Data: 28/04/2025
A2: Obra: 004/2024 - REFORMA ANDAR TÉRREO DA SEDE
A3: Cliente: IRGA
A4: Endereço: AV. FARRAPOS, 3999 - PORTO ALEGRE
A5: Item | B5: Descrição | C5: Quantidade | D5: Un | E5: Material | F5: Mão-de-Obra | G5: Total
A6: 1 | B6: SERVIÇOS INICIAIS
B7: .1 ENGENHEIRO CIVIL DE OBRA PLENO COM ENCARGOS COMPLEMENTARES | C7: 5 | D7: MES | E7: 197.18 | F7: 27312.75
E8: 985.9 | F8: 136563.75 | G8: 137549.65
B9: .2 MESTRE DE OBRAS COM ENCARGOS COMPLEMENTARES | C9: 5 | D9: MES | E9: 323.95 | F9: 24149.4
E10: 1619.75 | F10: 120747 | G10: 122366.75
B11: .3 MOBILIZAÇÃO E DESMOBILIZAÇÃO | C11: 1 | D11: UN | E11: 4370.5 | F11: 0
E12: 4370.5 | F12: 0 | G12: 4370.5
B13: .4 FORNECIMENTO E INSTALAÇÃO DE PLACA DE OBRA COM CHAPA GALVANIZADA E ESTRUTUR A DE MADEIRA. AF_03/2022 | C13: 6 | D13: M2 | E13: 32.3 | F13: 46.25
E14: 193.8 | F14: 277.5 | G14: 471.3
B15: .5 TAPUME EM CHAPA DE MADEIRA OSB. AF_03/2024 | C15: 35.7 | D15: M2 | E15: 33.57 | F15: 40.35
E16: 1198.45 | F16: 1440.5 | G16: 2638.95
B17: .6 LOCACAO DE ANDAIME METALICO TUBULAR TIPO TORRE | C17: 100 | D17: M/MES | E17: 38.01 | F17: 12.55
E18: 3801 | F18: 1255 | G18: 5056
B19: .7 "MONTAGEM E DESMONTAGEM DE ANDAIME TUBULAR TIPO ""TORRE"" (EXCLUSIVE ANDAIM E E LIMPEZA). AF_03/2024" | C19: 100 | D19: M | E19: 28.07 | F19: 38
E20: 2807 | F20: 3800 | G20: 6607
B21: .8 CARGA MANUAL E TRANSPORTE ENTULHO-CAMINHAO 10KM | C21: 100 | D21: M3 | E21: 55.08 | F21: 22
E22: 5508 | F22: 2200 | G22: 7708
B23: .9 ELABORAÇÃO DE PGRS | C23: 1 | D23: UN | E23: 697.2 | F23: 0
E24: 697.2 | F24: 0 | G24: 697.2
B26: Total do Grupo | E26: 21181.6 | F26: 266283.75 | G26: 287465.35
A28: 2 | B28: DEMOLIÇÕES E REMOÇÕES
B29: .1 DEMOLICAO DE FORRO DE GESSO | C29: 1483.61 | D29: M2 | E29: 0.95 | F29: 3.75
E30: 1409.43 | F30: 5563.54 | G30: 6972.97
B31: .2 REMOCAO E REPOSICAO DE BASALTO REGULAR-ARG.1:4-3CM | C31: 1300 | D31: M2 | E31: 15.59 | F31: 42.81
E32: 20267 | F32: 55653 | G32: 75920
B33: .3 PISO TÁTIL DIRECIONAL E DE ALERTA 25X25X2,5 CONCRETO AMARELO | C33: 38.5 | D33: M2 | E33: 154.87 | F33: 28.8
E34: 5962.5 | F34: 1108.8 | G34: 7071.3
B35: .4 PISO TÁTIL DE ALERTA 40X40X2,5 CM CONCRETO AMARELO | C35: 6 | D35: UN | E35: 31.18 | F35: 32.8
E36: 187.08 | F36: 196.8 | G36: 383.88
B37: .5 RETIRADA DE APARELHOS SANITARIOS | C37: 22 | D37: UN | E37: 0 | F37: 45.24
E38: 0 | F38: 995.28 | G38: 995.28
B39: .6 REMOCAO DE RODAPE CERAMICO | C39: 1000 | D39: M | E39: 1.3 | F39: 5.27
E40: 1300 | F40: 5270 | G40: 6570
B41: .7 REMOCAO DE PISO EM CARPETE | C41: 110 | D41: M2 | E41: 1.15 | F41: 4.6
E42: 126.5 | F42: 506 | G42: 632.5
...

Sheet Planilha2
B1: RELATÓRIO GLOBAL - Data: 25/04/2025
B2: Obra: 004/2024 - REFORMA ANDAR TÉRREO DA SEDE
B3: Cliente: IRGA
B4: Endereço: AV. FARRAPOS, 3999 - PORTO ALEGRE | I4: 2
A5: Item | B5: Código SINAPI | C5: Descrição | D5: Quantidade | E5: Un | F5: Material | G5: Mão-de-Obra | H5: Total | I5: 1 | K5: 2 | M5: 3 | O5: 4 | Q5: 5
A6: 1. | C6: SERVIÇOS INICIAIS
A7: 1.1 | B7: 93567 | C7: ENGENHEIRO CIVIL DE OBRA PLENO COM ENCARGOS COMPLEMENTARES | D7: 5 | E7: MES | F7: =Planilha1!E7 -> 197.18 | G7: =Planilha1!F7 -> 27312.75
F8: =Planilha1!E8 -> 985.9 | G8: =Planilha1!F8 -> 136563.75 | H8: =Planilha1!G8 -> 137549.65 | I8: =$H$8*0.2 -> 27509.93 | J8: =I8/H8 -> 0.2 | K8: =$H$8*0.2 -> 27509.93 | L8: =K8/H8 -> 0.2 | M8: =$H$8*0.2 -> 27509.93 | N8: =M8/H8 -> 0.2 | O8: =$H$8*0.2 -> 27509.93 | P8: =O8/H8 -> 0.2 | Q8: =$H$8*0.2 -> 27509.93 | R8: =Q8/H8 -> 0.2
A9: 1.2 | B9: 94295 | C9: MESTRE DE OBRAS COM ENCARGOS COMPLEMENTARES | D9: 5 | E9: MES | F9: =Planilha1!E9 -> 323.95 | G9: =Planilha1!F9 -> 24149.4
F10: =Planilha1!E10 -> 1619.75 | G10: =Planilha1!F10 -> 120747 | H10: =Planilha1!G10 -> 122366.75 | I10: =$H$10*0.2 -> 24473.35 | J10: =I10/H10 -> 0.2 | K10: =$H$10*0.2 -> 24473.35 | L10: =K10/H10 -> 0.2 | M10: =$H$10*0.2 -> 24473.35 | N10: =M10/H10 -> 0.2 | O10: =$H$10*0.2 -> 24473.35 | P10: =O10/H10 -> 0.2 | Q10: =$H$10*0.2 -> 24473.35 | R10: =Q10/H10 -> 0.2
A11: 1.3 | B11: 10101 | C11: MOBILIZAÇÃO E DESMOBILIZAÇÃO | D11: 1 | E11: UN | F11: =Planilha1!E11 -> 4370.5 | G11: =Planilha1!F11 -> 0
F12: =Planilha1!E12 -> 4370.5 | G12: =Planilha1!F12 -> 0 | H12: =Planilha1!G12 -> 4370.5 | I12: =H12*0.5 -> 2185.25 | J12: =I12/H12 -> 0.5 | Q12: =H12*0.5 -> 2185.25 | R12: =Q12/H12 -> 0.5
A13: 1.4 | B13: 103689 | C13: FORNECIMENTO E INSTALAÇÃO DE PLACA DE OBRA COM CHAPA GALVANIZADA E ESTRUTUR A DE MADEIRA. AF_03/2022 | D13: 6 | E13: M2 | F13: =Planilha1!E13 -> 32.3 | G13: =Planilha1!F13 -> 46.25
F14: =Planilha1!E14 -> 193.8 | G14: =Planilha1!F14 -> 277.5 | H14: =Planilha1!G14 -> 471.3 | I14: =H14 -> 471.3 | J14: =I14/H14 -> 1
A15: 1.5 | B15: 105118 | C15: TAPUME EM CHAPA DE MADEIRA OSB. AF_03/2024 | D15: 35.7 | E15: M2 | F15: =Planilha1!E15 -> 33.57 | G15: =Planilha1!F15 -> 40.35
F16: =Planilha1!E16 -> 1198.45 | G16: =Planilha1!F16 -> 1440.5 | H16: =Planilha1!G16 -> 2638.95 | I16: =H16 -> 2638.95 | J16: =I16/H16 -> 1
A17: 1.6 | B17: 73875 | C17: LOCACAO DE ANDAIME METALICO TUBULAR TIPO TORRE | D17: 100 | E17: M/MES | F17: =Planilha1!E17 -> 38.01 | G17: =Planilha1!F17 -> 12.55
F18: =Planilha1!E18 -> 3801 | G18: =Planilha1!F18 -> 1255 | H18: =Planilha1!G18 -> 5056 | I18: =$H$18*0.2 -> 1011.2 | J18: =I18/H18 -> 0.2 | K18: =$H$18*0.2 -> 1011.2 | L18: =K18/H18 -> 0.2 | M18: =$H$18*0.2 -> 1011.2 | N18: =M18/H18 -> 0.2 | O18: =$H$18*0.2 -> 1011.2 | P18: =O18/H18 -> 0.2 | Q18: =$H$18*0.2 -> 1011.2 | R18: =Q18/H18 -> 0.2
A19: 1.7 | B19: 97064 | C19: MONTAGEM E DESMONTAGEM DE ANDAIME TUBULAR TIPO "TORRE"" (INCLUSIVE ANDAIM E E LIMPEZA). AF_03/2024" | D19: 100 | E19: M | F19: =Planilha1!E19 -> 28.07 | G19: =Planilha1!F19 -> 38
F20: =Planilha1!E20 -> 2807 | G20: =Planilha1!F20 -> 3800 | H20: =Planilha1!G20 -> 6607 | I20: =$H$20*0.2 -> 1321.4 | J20: =I20/H20 -> 0.2 | K20: =$H$20*0.2 -> 1321.4 | L20: =K20/H20 -> 0.2 | M20: =$H$20*0.2 -> 1321.4 | N20: =M20/H20 -> 0.2 | O20: =$H$20*0.2 -> 1321.4 | P20: =O20/H20 -> 0.2 | Q20: =$H$20*0.2 -> 1321.4 | R20: =Q20/H20 -> 0.2
A21: 1.8 | B21: 31403 | C21: CARGA MANUAL E TRANSPORTE ENTULHO-CAMINHAO 10KM | D21: 100 | E21: M3 | F21: =Planilha1!E21 -> 55.08 | G21: =Planilha1!F21 -> 22
F22: =Planilha1!E22 -> 5508 | G22: =Planilha1!F22 -> 2200 | H22: =Planilha1!G22 -> 7708 | I22: =$H$22*0.2 -> 1541.6 | J22: =I22/H22 -> 0.2 | K22: =$H$22*0.2 -> 1541.6 | L22: =K22/H22 -> 0.2 | M22: =$H$22*0.2 -> 1541.6 | N22: =M22/H22 -> 0.2 | O22: =$H$22*0.2 -> 1541.6 | P22: =O22/H22 -> 0.2 | Q22: =$H$22*0.2 -> 1541.6 | R22: =Q22/H22 -> 0.2
A23: 1.9 | B23: COMPOSIÇÃO PRÓPRIA | C23: ELABORAÇÃO DE PGRS | D23: 1 | E23: UN | F23: =Planilha1!E23 -> 697.2 | G23: =Planilha1!F23 -> 0
F24: =Planilha1!E24 -> 697.2 | G24: =Planilha1!F24 -> 0 | H24: =Planilha1!G24 -> 697.2 | I24: =H24 -> 697.2 | J24: =I24/H24 -> 1
C26: Total do Grupo 1 | F26: =Planilha1!E26 -> 21181.6 | G26: =Planilha1!F26 -> 266283.75 | H26: =Planilha1!G26 -> 287465.35 | I26: =SUM(I8:I24) -> 61850.18 | J26: =I26/H26 -> 0.21515699 | K26: =SUM(K8:K24) -> 55857.48 | L26: =K26/H26 -> 0.19431031 | M26: =SUM(M8:M24) -> 55857.48 | N26: =M26/H26 -> 0.19431031 | O26: =SUM(O8:O24) -> 55857.48 | P26: =O26/H26 -> 0.19431031 | Q26: =SUM(Q8:Q24) -> 58042.73 | R26: =Q26/H26 -> 0.20191209
A28: 2. | C28: DEMOLIÇÕES E REMOÇÕES
A29: 2.1 | B29: 85372 | C29: DEMOLICAO DE PAREDE DE GESSO | D29: 1483.61 | E29: M2 | F29: =Planilha1!E29 -> 0.95 | G29: =Planilha1!F29 -> 3.75
F30: =Planilha1!E30 -> 1409.43 | G30: =Planilha1!F30 -> 5563.54 | H30: =Planilha1!G30 -> 6972.97 | I30: =H30 -> 6972.97 | J30: =I30/H30 -> 1
A31: 2.2 | B31: 592600 | C31: REMOCAO E REPOSICAO DE BASALTO REGULAR-ARG.1:4-3CM | D31: 1300 | E31: M2 | F31: =Planilha1!E31 -> 15.59 | G31: =Planilha1!F31 -> 42.81
F32: =Planilha1!E32 -> 20267 | G32: =Planilha1!F32 -> 55653 | H32: =Planilha1!G32 -> 75920 | I32: =$H$32*0.25 -> 18980 | J32: =I32/H32 -> 0.25 | K32: =$H$32*0.25 -> 18980 | L32: =K32/H32 -> 0.25 | M32: =$H$32*0.25 -> 18980 | N32: =M32/H32 -> 0.25 | O32: =$H$32*0.25 -> 18980 | P32: =O32/H32 -> 0.25
A33: 2.3 | B33: 590 | C33: PISO TÁTIL DIRECIONAL E DE ALERTA 25X25X2,5 CONCRETO AMARELO | D33: 38.5 | E33: M2 | F33: =Planilha1!E33 -> 154.87 | G33: =Planilha1!F33 -> 28.8
F34: =Planilha1!E34 -> 5962.5 | G34: =Planilha1!F34 -> 1108.8 | H34: =Planilha1!G34 -> 7071.3 | I34: =$H$34*0.3 -> 2121.39 | J34: =I34/H34 -> 0.3 | K34: =$H$34*0.3 -> 2121.39 | L34: =K34/H34 -> 0.3 | M34: =$H$34*0.4 -> 2828.52 | N34: =M34/H34 -> 0.4
A35: 2.4 | B35: 591 | C35: PISO TÁTIL DE ALERTA 40X40X2,5 CM CONCRETO AMARELO | D35: 6 | E35: UN | F35: =Planilha1!E35 -> 31.18 | G35: =Planilha1!F35 -> 32.8
F36: =Planilha1!E36 -> 187.08 | G36: =Planilha1!F36 -> 196.8 | H36: =Planilha1!G36 -> 383.88 | I36: =$H$36*0.3 -> 115.164 | J36: =I36/H36 -> 0.3 | K36: =$H$36*0.3 -> 115.164 | L36: =K36/H36 -> 0.3 | M36: =$H$36*0.4 -> 153.552 | N36: =M36/H36 -> 0.4
A37: 2.5 | B37: 22194 | C37: RETIRADA DE APARELHOS SANITARIOS, TAMPOS DE GRANITO, ESPELHOS | D37: 22 | E37: UN | F37: =Planilha1!E37 -> 0 | G37: =Planilha1!F37 -> 45.24
F38: =Planilha1!E38 -> 0 | G38: =Planilha1!F38 -> 995.28 | H38: =Planilha1!G38 -> 995.28 | I38: =H38*0.75 -> 746.46 | J38: =I38/H38 -> 0.75 | O38: =H38*0.25 -> 248.82 | P38: =O38/H38 -> 0.25
A39: 2.6 | B39: 85411 | C39: REMOCAO DE RODAPE CERAMICO COM REAPROVEITAMENTO | D39: 1000 | E39: M | F39: =Planilha1!E39 -> 1.3 | G39: =Planilha1!F39 -> 5.27
F40: =Planilha1!E40 -> 1300 | G40: =Planilha1!F40 -> 5270 | H40: =Planilha1!G40 -> 6570 | I40: =H40 -> 6570 | J40: =I40/H40 -> 1
A41: 2.7 | B41: 85371 | C41: REMOCAO DE PISO EM CARPETE SEM REAPROVEITAMENTO | D41: 110 | E41: M2 | F41: =Planilha1!E41 -> 1.15 | G41: =Planilha1!F41 -> 4.6
F42: =Planilha1!E42 -> 126.5 | G42: =Planilha1!F42 -> 506 | H42: =Planilha1!G42 -> 632.5 | I42: =H42 -> 632.5 | J42: =I42/H42 -> 1
...

Sheet Planilha3
B3: CRONOGRAMA FÍSICO-FINANCEIRO
B4: Etapa | C4: Prazo | D4: Parcela | E4: Porcentagem
B5: 1 | C5: 30 dias | D5: =Planilha2!I235 -> 190327.08 | E5: =Planilha2!J235 -> 0.077834056
B6: 2 | C6: 60 dias | D6: =Planilha2!K235 -> 471052.4 | E6: =Planilha2!L235 -> 0.19263638
B7: 3 | C7: 90 dias | D7: =Planilha2!M235 -> 381585.51 | E7: =Planilha2!N235 -> 0.15604899
B8: 4 | C8: 120 dias | D8: =Planilha2!O235 -> 664505.24 | E8: =Planilha2!P235 -> 0.27174871
B9: 5 | C9: 150 dias | D9: =Planilha2!Q235 -> 737722.04 | E9: =Planilha2!R235 -> 0.30169065
B10: Total | C10: =C9 -> 150 dias | D10: =SUM(D5:D9) -> 2445192.3 | E10: =SUM(E5:E9) -> 0.99995879
