Workbook

Sheet Planilha1
A1: RELATÓRIO GLOBAL - Data: 28/04/2025
A2: Obra: 004/2024 - REFORMA ANDAR TÉRREO DA SEDE
A3: Cliente: IRGA
A4: Endereço: AV. FARRAPOS, 3999 - PORTO ALEGRE
A5: Item | B5: Descrição | C5: Quantidade | D5: Un | E5: Material | F5: Mão-de-Obra | G5: Total
A6: 1 | B6: SERVIÇOS INICIAIS
B7: .1 ENGENHEIRO CIVIL DE OBRA PLENO COM ENCARGOS COMPLEMENTARES | C7: 5 | D7: MES | E7: 197.18 | F7: 27312.75
E8: 985.9 | F8: 136563.75 | G8: 137549.65
B9: .2 MESTRE DE OBRAS COM ENCARGOS COMPLEMENTARES | C9: 5 | D9: MES | E9: 323.95 | F9: 24149.4
E10: 1619.75 | F10: 120747 | G10: 122366.75
B11: .3 MOBILIZAÇÃO E DESMOBILIZAÇÃO | C11: 1 | D11: UN | E11: 4370.5 | F11: 0
E12: 4370.5 | F12: 0 | G12: 4370.5
B13: .4 FORNECIMENTO E INSTALAÇÃO DE PLACA DE OBRA COM CHAPA GALVANIZADA E ESTRUTUR A DE MADEIRA. AF_03/2022 | C13: 6 | D13: M2 | E13: 32.3 | F13: 46.25
E14: 193.8 | F14: 277.5 | G14: 471.3
B15: .5 TAPUME EM CHAPA DE MADEIRA OSB. AF_03/2024 | C15: 35.7 | D15: M2 | E15: 33.57 | F15: 40.35
E16: 1198.45 | F16: 1440.5 | G16: 2638.95
B17: .6 LOCACAO DE ANDAIME METALICO TUBULAR TIPO TORRE | C17: 100 | D17: M/MES | E17: 38.01 | F17: 12.55
E18: 3801 | F18: 1255 | G18: 5056
B19: .7 "MONTAGEM E DESMONTAGEM DE ANDAIME TUBULAR TIPO ""TORRE"" (EXCLUSIVE ANDAIM E E LIMPEZA). AF_03/2024" | C19: 100 | D19: M | E19: 28.07 | F19: 38
E20: 2807 | F20: 3800 | G20: 6607
B21: .8 CARGA MANUAL E TRANSPORTE ENTULHO-CAMINHAO 10KM | C21: 100 | D21: M3 | E21: 55.08 | F21: 22
E22: 5508 | F22: 2200 | G22: 7708
B23: .9 ELABORAÇÃO DE PGRS | C23: 1 | D23: UN | E23: 697.2 | F23: 0
E24: 697.2 | F24: 0 | G24: 697.2
B26: Total do Grupo | E26: 21181.6 | F26: 266283.75 | G26: 287465.35
A28: 2 | B28: DEMOLIÇÕES E REMOÇÕES
B29: .1 DEMOLICAO DE FORRO DE GESSO | C29: 1483.61 | D29: M2 | E29: 0.95 | F29: 3.75
E30: 1409.43 | F30: 5563.54 | G30: 6972.97
B31: .2 REMOCAO E REPOSICAO DE BASALTO REGULAR-ARG.1:4-3CM | C31: 1300 | D31: M2 | E31: 15.59 | F31: 42.81
E32: 20267 | F32: 55653 | G32: 75920
B33: .3 PISO TÁTIL DIRECIONAL E DE ALERTA 25X25X2,5 CONCRETO AMARELO | C33: 38.5 | D33: M2 | E33: 154.87 | F33: 28.8
E34: 5962.5 | F34: 1108.8 | G34: 7071.3
B35: .4 PISO TÁTIL DE ALERTA 40X40X2,5 CM CONCRETO AMARELO | C35: 6 | D35: UN | E35: 31.18 | F35: 32.8
E36: 187.08 | F36: 196.8 | G36: 383.88
B37: .5 RETIRADA DE APARELHOS SANITARIOS | C37: 22 | D37: UN | E37: 0 | F37: 45.24
E38: 0 | F38: 995.28 | G38: 995.28
B39: .6 REMOCAO DE RODAPE CERAMICO | C39: 1000 | D39: M | E39: 1.3 | F39: 5.27
E40: 1300 | F40: 5270 | G40: 6570
B41: .7 REMOCAO DE PISO EM CARPETE | C41: 110 | D41: M2 | E41: 1.15 | F41: 4.6
E42: 126.5 | F42: 506 | G42: 632.5
B43: .8 REMOCAO DE TOMADAS OU INTERRUPTORES ELETRICOS | C43: 169 | D43: UN | E43: 4.54 | F43: 20.83
E44: 767.26 | F44: 3520.27 | G44: 4287.53
B45: .9 DEMOLICAO DE COBERTURA COM TELHAS FIBROCIMENTO | C45: 1290 | D45: M2 | E45: 0 | F45: 7.81
E46: 0 | F46: 10074.9 | G46: 10074.9
B47: .10 DESMONTAGEM DE DIVISORIAS LEVES | C47: 44.5 | D47: M2 | E47: 0 | F47: 12.37
E48: 0 | F48: 550.47 | G48: 550.47
B49: .11 DEMOLICAO DE TELHAS ONDULADAS | C49: 1995 | D49: M2 | E49: 1.58 | F49: 6.27
E50: 3152.1 | F50: 12508.65 | G50: 15660.75
B51: .12 DEMOLICAO ESTRUTURA DE MADEIRA DE TELHADO | C51: 1250 | D51: M2 | E51: 0 | F51: 13.58
E52: 0 | F52: 16975 | G52: 16975
B53: .13 ENCANADOR OU BOMBEIRO HIDRÁULICO COM ENCARGOS COMPLEMENTARES | C53: 48 | D53: H | E53: 5.68 | F53: 32.67
E54: 272.64 | F54: 1568.16 | G54: 1840.8
B55: .14 AUXILIAR DE ENCANADOR OU BOMBEIRO HIDRÁULICO COM ENCARGOS COMPLEMENTARES | C55: 48 | D55: H | E55: 5.68 | F55: 26.46
E56: 272.64 | F56: 1270.08 | G56: 1542.72
B58: Total do Grupo | E58: 33717.15 | F58: 115760.95 | G58: 149478.1
A60: 3 | B60: ALVENARIAS E VEDAÇÕES
B61: .1 PAREDE COM PLACAS CIMENTICIAS COM DUAS FACES SIMPLES, COM VÃOS | C61: 1483.61 | D61: M2 | E61: 170.6 | F61: 4.07
E62: 253103.87 | F62: 6038.29 | G62: 259142.16
B63: .2 PAREDE COM PLACAS de gesso acartonado uma FACES SIMPLES, COM VÃOS | C63: 10 | D63: m2 | E63: 69.07 | F63: 22.66
E64: 690.7 | F64: 226.6 | G64: 917.3
B65: .3 INSTALAÇÃO DE ISOLAMENTO COM LÃ DE PET EM PAREDE DRYWALL. AF_07/2023 | C65: 750 | D65: M2 | E65: 2.61 | F65: 2.71
E66: 1957.5 | F66: 2032.5 | G66: 3990
B67: .4 TRATAMENTO DE RODAPÉ COM TELA DE POLIÉSTER. AF_09/2023 | C67: 50 | D67: M | E67: 4.04 | F67: 2.31
E68: 202 | F68: 115.5 | G68: 317.5
B70: Total do Grupo | E70: 255954.07 | F70: 8412.89 | G70: 264366.96
A72: 4 | B72: REVESTIMENTOS
B73: .1 REVESTIMENTO CERÂMICO PARA PAREDES EXTERNAS EM PASTILHAS DE PORCELANA 2,5 X 2,5 CM (PLACAS DE 30 X 30 CM), ALINHADAS A PRUMO, APLICADO EM PANOS SEM VÃOS. AF_10/2014 | C73: 130 | D73: M2 | E73: 470.4 | F73: 43.97
E74: 61152 | F74: 5716.1 | G74: 66868.1
B75: .2 REVESTIMENTO CERÂMICO PARA PAREDES EXTERNAS EM PASTILHAS DE PORCELANA 2,5 X 2,5 CM (PLACAS DE 30 X 30 CM), ALINHADAS A PRUMO, APLICADO EM SUPERFÍCIES INTERNAS DE SACD . AF_02/2023 | C75: 10 | D75: M2 | E75: 547.1 | F75: 59.15
E76: 5471 | F76: 591.5 | G76: 6062.5
B77: .3 EMASSAMENTO COM MASSA LÁTEX, APLICAÇÃO EM PAREDE, DUAS DEMÃOS, LIXAMENTO ME CANIZADO. AF_04/2023 | C77: 1500 | D77: M2 | E77: 9.44 | F77: 10.73
E78: 14160 | F78: 16095 | G78: 30255
B79: .4 LIXAMENTO MANUAL EM SUPERFÍCIES METÁLICAS EM OBRA. AF_01/2020 | C79: 949.72 | D79: M2 | E79: 3.97 | F79: 9.06
E80: 3770.39 | F80: 8604.46 | G80: 12374.85
B81: .5 FUNDO SELADOR ACRÍLICO, APLICAÇÃO MANUAL EM PAREDE, UMA DEMÃO. AF_04/2023 | C81: 1500 | D81: M2 | E81: 2.32 | F81: 2.58
E82: 3480 | F82: 3870 | G82: 7350
B83: .6 APLICAÇÃO MANUAL DE PINTURA COM TINTA LÁTEX ACRÍLICA EM PAREDES, DUAS DEMÃO S. AF_06/2014 | C83: 7273 | D83: M2 | E83: 10.5 | F83: 6.31
E84: 76366.5 | F84: 45892.63 | G84: 122259.13
B85: .7 PINTURA LÁTEX ACRÍLICA PREMIUM, APLICAÇÃO MANUAL EM TETO, DUAS DEMÃOS. AF_0 4/2023 | C85: 832 | D85: M2 | E85: 11.18 | F85: 8.76
E86: 9301.76 | F86: 7288.32 | G86: 16590.08
B87: .8 PINTURA ESMALTE BORRACHA CLORADA 2 DEMAOS | C87: 470 | D87: M2 | E87: 38.99 | F87: 23.51
E88: 18325.3 | F88: 11049.7 | G88: 29375
B89: .9 FUNDO ANTICORROSIVO A BASE DE OXIDO DE FERRO (ZARCAO), UMA DEMAO | C89: 949.72 | D89: M2 | E89: 10.41 | F89: 14.09
E90: 9886.59 | F90: 13381.55 | G90: 23268.14
B91: .10 PINTURA ESMALTE FOSCO, DUAS DEMAOS, SOBRE SUPERFICIE METALICA | C91: 949.72 | D91: M2 | E91: 20.65 | F91: 27.66
E92: 19611.72 | F92: 26269.26 | G92: 45880.98
B93: .11 RECOLOCACAO DE RODAPE DE MADEIRA E CORDAO, CONSIDERANDO REAPROVEITAMENTO DO MATERIAL | C93: 1000 | D93: M | E93: 2.05 | F93: 8.08
E94: 2050 | F94: 8080 | G94: 10130
B95: .12 CARPETE NYLON 6 MM-EXCLUSIVE BASE | C95: 110 | D95: M2 | E95: 306.33 | F95: 20.8
E96: 33696.3 | F96: 2288 | G96: 35984.3
B97: .13 FORRO DE FIBRA MINERAL, PARA AMBIENTES COMERCIAIS, INCLUSIVE ESTRUTURA DE F IXAÇÃO. AF_05/2017_P | C97: 1200 | D97: M2 | E97: 114.17 | F97: 14.89
E98: 137004 | F98: 17868 | G98: 154872
B100: Total do Grupo | E100: 394275.56 | F100: 166994.52 | G100: 561270.08
A102: 5 | B102: ESQUADRIAS E PORTAS
B103: .1 JANELA QUADRO FIXO ALUM C/ VIDRO LAMIN 8MM | C103: 2.64 | D103: M2 | E103: 698.94 | F103: 11.65
E104: 1845.2 | F104: 30.76 | G104: 1875.96
B105: .2 PM 01 - KIT DE PORTA DE MADEIRA 90 X 210 COMPLETA COM INSTAL | C105: 26 | D105: un | E105: 1545.55 | F105: 0
E106: 40184.3 | F106: 0 | G106: 40184.3
B107: .3 PM 02 - KIT DE PORTA DE MADEIRA 80 X 210 COMPLETA COM INSTAL | C107: 2 | D107: UN | E107: 1519.57 | F107: 0
E108: 3039.14 | F108: 0 | G108: 3039.14
...

Sheet Planilha2
B1: RELATÓRIO GLOBAL - Data: 25/04/2025
B2: Obra: 004/2024 - REFORMA ANDAR TÉRREO DA SEDE
B3: Cliente: IRGA
B4: Endereço: AV. FARRAPOS, 3999 - PORTO ALEGRE | I4: 2
A5: Item | B5: Código SINAPI | C5: Descrição | D5: Quantidade | E5: Un | F5: Material | G5: Mão-de-Obra | H5: Total | I5: 1 | K5: 2 | M5: 3 | O5: 4 | Q5: 5
A6: 1. | C6: SERVIÇOS INICIAIS
A7: 1.1 | B7: 93567 | C7: ENGENHEIRO CIVIL DE OBRA PLENO COM ENCARGOS COMPLEMENTARES | D7: 5 | E7: MES | F7: =Planilha1!E7 -> 197.18 | G7: =Planilha1!F7 -> 27312.75
F8: =Planilha1!E8 -> 985.9 | G8: =Planilha1!F8 -> 136563.75 | H8: =Planilha1!G8 -> 137549.65 | I8: =$H$8*0.2 -> 27509.93 | J8: =I8/H8 -> 0.2 | K8: =$H$8*0.2 -> 27509.93 | L8: =K8/H8 -> 0.2 | M8: =$H$8*0.2 -> 27509.93 | N8: =M8/H8 -> 0.2 | O8: =$H$8*0.2 -> 27509.93 | P8: =O8/H8 -> 0.2 | Q8: =$H$8*0.2 -> 27509.93 | R8: =Q8/H8 -> 0.2
A9: 1.2 | B9: 94295 | C9: MESTRE DE OBRAS COM ENCARGOS COMPLEMENTARES | D9: 5 | E9: MES | F9: =Planilha1!E9 -> 323.95 | G9: =Planilha1!F9 -> 24149.4
F10: =Planilha1!E10 -> 1619.75 | G10: =Planilha1!F10 -> 120747 | H10: =Planilha1!G10 -> 122366.75 | I10: =$H$10*0.2 -> 24473.35 | J10: =I10/H10 -> 0.2 | K10: =$H$10*0.2 -> 24473.35 | L10: =K10/H10 -> 0.2 | M10: =$H$10*0.2 -> 24473.35 | N10: =M10/H10 -> 0.2 | O10: =$H$10*0.2 -> 24473.35 | P10: =O10/H10 -> 0.2 | Q10: =$H$10*0.2 -> 24473.35 | R10: =Q10/H10 -> 0.2
A11: 1.3 | B11: 10101 | C11: MOBILIZAÇÃO E DESMOBILIZAÇÃO | D11: 1 | E11: UN | F11: =Planilha1!E11 -> 4370.5 | G11: =Planilha1!F11 -> 0
F12: =Planilha1!E12 -> 4370.5 | G12: =Planilha1!F12 -> 0 | H12: =Planilha1!G12 -> 4370.5 | I12: =H12*0.5 -> 2185.25 | J12: =I12/H12 -> 0.5 | Q12: =H12*0.5 -> 2185.25 | R12: =Q12/H12 -> 0.5
A13: 1.4 | B13: 103689 | C13: FORNECIMENTO E INSTALAÇÃO DE PLACA DE OBRA COM CHAPA GALVANIZADA E ESTRUTUR A DE MADEIRA. AF_03/2022 | D13: 6 | E13: M2 | F13: =Planilha1!E13 -> 32.3 | G13: =Planilha1!F13 -> 46.25
F14: =Planilha1!E14 -> 193.8 | G14: =Planilha1!F14 -> 277.5 | H14: =Planilha1!G14 -> 471.3 | I14: =H14 -> 471.3 | J14: =I14/H14 -> 1
A15: 1.5 | B15: 105118 | C15: TAPUME EM CHAPA DE MADEIRA OSB. AF_03/2024 | D15: 35.7 | E15: M2 | F15: =Planilha1!E15 -> 33.57 | G15: =Planilha1!F15 -> 40.35
F16: =Planilha1!E16 -> 1198.45 | G16: =Planilha1!F16 -> 1440.5 | H16: =Planilha1!G16 -> 2638.95 | I16: =H16 -> 2638.95 | J16: =I16/H16 -> 1
A17: 1.6 | B17: 73875 | C17: LOCACAO DE ANDAIME METALICO TUBULAR TIPO TORRE | D17: 100 | E17: M/MES | F17: =Planilha1!E17 -> 38.01 | G17: =Planilha1!F17 -> 12.55
F18: =Planilha1!E18 -> 3801 | G18: =Planilha1!F18 -> 1255 | H18: =Planilha1!G18 -> 5056 | I18: =$H$18*0.2 -> 1011.2 | J18: =I18/H18 -> 0.2 | K18: =$H$18*0.2 -> 1011.2 | L18: =K18/H18 -> 0.2 | M18: =$H$18*0.2 -> 1011.2 | N18: =M18/H18 -> 0.2 | O18: =$H$18*0.2 -> 1011.2 | P18: =O18/H18 -> 0.2 | Q18: =$H$18*0.2 -> 1011.2 | R18: =Q18/H18 -> 0.2
A19: 1.7 | B19: 97064 | C19: MONTAGEM E DESMONTAGEM DE ANDAIME TUBULAR TIPO "TORRE"" (INCLUSIVE ANDAIM E E LIMPEZA). AF_03/2024" | D19: 100 | E19: M | F19: =Planilha1!E19 -> 28.07 | G19: =Planilha1!F19 -> 38
F20: =Planilha1!E20 -> 2807 | G20: =Planilha1!F20 -> 3800 | H20: =Planilha1!G20 -> 6607 | I20: =$H$20*0.2 -> 1321.4 | J20: =I20/H20 -> 0.2 | K20: =$H$20*0.2 -> 1321.4 | L20: =K20/H20 -> 0.2 | M20: =$H$20*0.2 -> 1321.4 | N20: =M20/H20 -> 0.2 | O20: =$H$20*0.2 -> 1321.4 | P20: =O20/H20 -> 0.2 | Q20: =$H$20*0.2 -> 1321.4 | R20: =Q20/H20 -> 0.2
A21: 1.8 | B21: 31403 | C21: CARGA MANUAL E TRANSPORTE ENTULHO-CAMINHAO 10KM | D21: 100 | E21: M3 | F21: =Planilha1!E21 -> 55.08 | G21: =Planilha1!F21 -> 22
F22: =Planilha1!E22 -> 5508 | G22: =Planilha1!F22 -> 2200 | H22: =Planilha1!G22 -> 7708 | I22: =$H$22*0.2 -> 1541.6 | J22: =I22/H22 -> 0.2 | K22: =$H$22*0.2 -> 1541.6 | L22: =K22/H22 -> 0.2 | M22: =$H$22*0.2 -> 1541.6 | N22: =M22/H22 -> 0.2 | O22: =$H$22*0.2 -> 1541.6 | P22: =O22/H22 -> 0.2 | Q22: =$H$22*0.2 -> 1541.6 | R22: =Q22/H22 -> 0.2
A23: 1.9 | B23: COMPOSIÇÃO PRÓPRIA | C23: ELABORAÇÃO DE PGRS | D23: 1 | E23: UN | F23: =Planilha1!E23 -> 697.2 | G23: =Planilha1!F23 -> 0
F24: =Planilha1!E24 -> 697.2 | G24: =Planilha1!F24 -> 0 | H24: =Planilha1!G24 -> 697.2 | I24: =H24 -> 697.2 | J24: =I24/H24 -> 1
C26: Total do Grupo 1 | F26: =Planilha1!E26 -> 21181.6 | G26: =Planilha1!F26 -> 266283.75 | H26: =Planilha1!G26 -> 287465.35 | I26: =SUM(I8:I24) -> 61850.18 | J26: =I26/H26 -> 0.21515699 | K26: =SUM(K8:K24) -> 55857.48 | L26: =K26/H26 -> 0.19431031 | M26: =SUM(M8:M24) -> 55857.48 | N26: =M26/H26 -> 0.19431031 | O26: =SUM(O8:O24) -> 55857.48 | P26: =O26/H26 -> 0.19431031 | Q26: =SUM(Q8:Q24) -> 58042.73 | R26: =Q26/H26 -> 0.20191209
A28: 2. | C28: DEMOLIÇÕES E REMOÇÕES
A29: 2.1 | B29: 85372 | C29: DEMOLICAO DE PAREDE DE GESSO | D29: 1483.61 | E29: M2 | F29: =Planilha1!E29 -> 0.95 | G29: =Planilha1!F29 -> 3.75
F30: =Planilha1!E30 -> 1409.43 | G30: =Planilha1!F30 -> 5563.54 | H30: =Planilha1!G30 -> 6972.97 | I30: =H30 -> 6972.97 | J30: =I30/H30 -> 1
A31: 2.2 | B31: 592600 | C31: REMOCAO E REPOSICAO DE BASALTO REGULAR-ARG.1:4-3CM | D31: 1300 | E31: M2 | F31: =Planilha1!E31 -> 15.59 | G31: =Planilha1!F31 -> 42.81
F32: =Planilha1!E32 -> 20267 | G32: =Planilha1!F32 -> 55653 | H32: =Planilha1!G32 -> 75920 | I32: =$H$32*0.25 -> 18980 | J32: =I32/H32 -> 0.25 | K32: =$H$32*0.25 -> 18980 | L32: =K32/H32 -> 0.25 | M32: =$H$32*0.25 -> 18980 | N32: =M32/H32 -> 0.25 | O32: =$H$32*0.25 -> 18980 | P32: =O32/H32 -> 0.25
A33: 2.3 | B33: 590 | C33: PISO TÁTIL DIRECIONAL E DE ALERTA 25X25X2,5 CONCRETO AMARELO | D33: 38.5 | E33: M2 | F33: =Planilha1!E33 -> 154.87 | G33: =Planilha1!F33 -> 28.8
F34: =Planilha1!E34 -> 5962.5 | G34: =Planilha1!F34 -> 1108.8 | H34: =Planilha1!G34 -> 7071.3 | I34: =$H$34*0.3 -> 2121.39 | J34: =I34/H34 -> 0.3 | K34: =$H$34*0.3 -> 2121.39 | L34: =K34/H34 -> 0.3 | M34: =$H$34*0.4 -> 2828.52 | N34: =M34/H34 -> 0.4
A35: 2.4 | B35: 591 | C35: PISO TÁTIL DE ALERTA 40X40X2,5 CM CONCRETO AMARELO | D35: 6 | E35: UN | F35: =Planilha1!E35 -> 31.18 | G35: =Planilha1!F35 -> 32.8
F36: =Planilha1!E36 -> 187.08 | G36: =Planilha1!F36 -> 196.8 | H36: =Planilha1!G36 -> 383.88 | I36: =$H$36*0.3 -> 115.164 | J36: =I36/H36 -> 0.3 | K36: =$H$36*0.3 -> 115.164 | L36: =K36/H36 -> 0.3 | M36: =$H$36*0.4 -> 153.552 | N36: =M36/H36 -> 0.4
A37: 2.5 | B37: 22194 | C37: RETIRADA DE APARELHOS SANITARIOS, TAMPOS DE GRANITO, ESPELHOS | D37: 22 | E37: UN | F37: =Planilha1!E37 -> 0 | G37: =Planilha1!F37 -> 45.24
F38: =Planilha1!E38 -> 0 | G38: =Planilha1!F38 -> 995.28 | H38: =Planilha1!G38 -> 995.28 | I38: =H38*0.75 -> 746.46 | J38: =I38/H38 -> 0.75 | O38: =H38*0.25 -> 248.82 | P38: =O38/H38 -> 0.25
A39: 2.6 | B39: 85411 | C39: REMOCAO DE RODAPE CERAMICO COM REAPROVEITAMENTO | D39: 1000 | E39: M | F39: =Planilha1!E39 -> 1.3 | G39: =Planilha1!F39 -> 5.27
F40: =Planilha1!E40 -> 1300 | G40: =Planilha1!F40 -> 5270 | H40: =Planilha1!G40 -> 6570 | I40: =H40 -> 6570 | J40: =I40/H40 -> 1
A41: 2.7 | B41: 85371 | C41: REMOCAO DE PISO EM CARPETE SEM REAPROVEITAMENTO | D41: 110 | E41: M2 | F41: =Planilha1!E41 -> 1.15 | G41: =Planilha1!F41 -> 4.6
F42: =Planilha1!E42 -> 126.5 | G42: =Planilha1!F42 -> 506 | H42: =Planilha1!G42 -> 632.5 | I42: =H42 -> 632.5 | J42: =I42/H42 -> 1
A43: 2.8 | B43: 85416 | C43: REMOCAO DE TOMADAS OU INTERRUPTORES ELETRICOS SEM REAPROVEITAMENTO | D43: 169 | E43: UN | F43: =Planilha1!E43 -> 4.54 | G43: =Planilha1!F43 -> 20.83
F44: =Planilha1!E44 -> 767.26 | G44: =Planilha1!F44 -> 3520.27 | H44: =Planilha1!G44 -> 4287.53 | I44: =H44*0.75 -> 3215.6475 | J44: =I44/H44 -> 0.75 | O44: =H44*0.25 -> 1071.8825 | P44: =O44/H44 -> 0.25
A45: 2.9 | B45: 22186 | C45: DEMOLICAO DE COBERTURA COM TELHAS FIBROCIMENTO | D45: 1290 | E45: M2 | F45: =Planilha1!E45 -> 0 | G45: =Planilha1!F45 -> 7.81
F46: =Planilha1!E46 -> 0 | G46: =Planilha1!F46 -> 10074.9 | H46: =Planilha1!G46 -> 10074.9 | K46: =$H$46*0.3 -> 3022.47 | L46: =K46/H46 -> 0.3 | M46: =$H$46*0.3 -> 3022.47 | N46: =M46/H46 -> 0.3 | O46: =$H$46*0.4 -> 4029.96 | P46: =O46/H46 -> 0.4
A47: 2.10 | B47: 22197 | C47: DESMONTAGEM DE DIVISORIAS LEVES BANHEIROS COM REAPROVEITAMENTO | D47: 44.5 | E47: M2 | F47: =Planilha1!E47 -> 0 | G47: =Planilha1!F47 -> 12.37
F48: =Planilha1!E48 -> 0 | G48: =Planilha1!F48 -> 550.47 | H48: =Planilha1!G48 -> 550.47 | I48: =H48*0.75 -> 412.8525 | J48: =I48/H48 -> 0.75 | O48: =H48*0.25 -> 137.6175 | P48: =O48/H48 -> 0.25
A49: 2.11 | B49: 72225 | C49: DEMOLICAO DE TELHAS ONDULADAS | D49: 1995 | E49: M2 | F49: =Planilha1!E49 -> 1.58 | G49: =Planilha1!F49 -> 6.27
F50: =Planilha1!E50 -> 3152.1 | G50: =Planilha1!F50 -> 12508.65 | H50: =Planilha1!G50 -> 15660.75 | K50: =$H$50*0.3 -> 4698.225 | L50: =K50/H50 -> 0.3 | M50: =$H$50*0.3 -> 4698.225 | N50: =M50/H50 -> 0.3 | O50: =$H$50*0.4 -> 6264.3 | P50: =O50/H50 -> 0.4
A51: 2.12 | B51: 22181 | C51: DEMOLICAO ESTRUTURA DE MADEIRA DE TELHADO | D51: 1250 | E51: M2 | F51: =Planilha1!E51 -> 0 | G51: =Planilha1!F51 -> 13.58
F52: =Planilha1!E52 -> 0 | G52: =Planilha1!F52 -> 16975 | H52: =Planilha1!G52 -> 16975 | K52: =$H$52*0.3 -> 5092.5 | L52: =K52/H52 -> 0.3 | M52: =$H$52*0.3 -> 5092.5 | N52: =M52/H52 -> 0.3 | O52: =$H$52*0.4 -> 6790 | P52: =O52/H52 -> 0.4
A53: 2.13 | B53: 88267 | C53: ENCANADOR OU BOMBEIRO HIDRÁULICO COM ENCARGOS COMPLEMENTARES | D53: 48 | E53: H | F53: =Planilha1!E53 -> 5.68 | G53: =Planilha1!F53 -> 32.67
F54: =Planilha1!E54 -> 272.64 | G54: =Planilha1!F54 -> 1568.16 | H54: =Planilha1!G54 -> 1840.8 | I54: =H54*0.5 -> 920.4 | J54: =I54/H54 -> 0.5 | K54: =H54*0.5 -> 920.4 | L54: =K54/H54 -> 0.5
A55: 2.14 | B55: 88248 | C55: AUXILIAR DE ENCANADOR OU BOMBEIRO HIDRÁULICO COM ENCARGOS COMPLEMENTARES | D55: 48 | E55: H | F55: =Planilha1!E55 -> 5.68 | G55: =Planilha1!F55 -> 26.46
F56: =Planilha1!E56 -> 272.64 | G56: =Planilha1!F56 -> 1270.08 | H56: =Planilha1!G56 -> 1542.72 | I56: =H56*0.5 -> 771.36 | J56: =I56/H56 -> 0.5 | K56: =H56*0.5 -> 771.36 | L56: =K56/H56 -> 0.5
C58: Total do Grupo 2 | F58: =Planilha1!E58 -> 33717.15 | G58: =Planilha1!F58 -> 115760.95 | H58: =Planilha1!G58 -> 149478.1 | I58: =SUM(I30:I57) -> 41458.744 | J58: =I58/H58 -> 0.27735664 | K58: =SUM(K30:K57) -> 35721.509 | L58: =K58/H58 -> 0.23897487 | M58: =SUM(M30:M57) -> 34775.267 | N58: =M58/H58 -> 0.23264456 | O58: =SUM(O30:O57) -> 37522.58 | P58: =O58/H58 -> 0.25102393 | Q58: =SUM(Q30:Q57) -> 0 | R58: =Q58/H58 -> 0
A60: 3. | C60: ALVENARIAS E VEDAÇÕES
A61: 3.1 | B61: 788 | C61: PAREDE COM PLACAS CIMENTICIAS COM DUAS FACES SIMPLES, COM VÃOS | D61: 1483.61 | E61: M2 | F61: =Planilha1!E61 -> 170.6 | G61: =Planilha1!F61 -> 4.07
F62: =Planilha1!E62 -> 253103.87 | G62: =Planilha1!F62 -> 6038.29 | H62: =Planilha1!G62 -> 259142.16 | I62: =H62*0.2 -> 51828.432 | J62: =I62/H62 -> 0.2 | K62: =H62*0.8 -> 207313.73 | L62: =K62/H62 -> 0.8
A63: 3.2 | B63: 789 | C63: PAREDE COM PLACAS DE GESSO ACARTONADO DE FACES SIMPLES, COM VÃOS | D63: 10 | E63: m2 | F63: =Planilha1!E63 -> 69.07 | G63: =Planilha1!F63 -> 22.66
F64: =Planilha1!E64 -> 690.7 | G64: =Planilha1!F64 -> 226.6 | H64: =Planilha1!G64 -> 917.3 | O64: =H64 -> 917.3 | P64: =O64/H64 -> 1
A65: 3.3 | B65: 104726 | C65: INSTALAÇÃO DE ISOLAMENTO COM LÃ DE PET EM PAREDE DRYWALL. AF_07/2023 | D65: 750 | E65: M2 | F65: =Planilha1!E65 -> 2.61 | G65: =Planilha1!F65 -> 2.71
F66: =Planilha1!E66 -> 1957.5 | G66: =Planilha1!F66 -> 2032.5 | H66: =Planilha1!G66 -> 3990 | I66: =H66*0.2 -> 798 | J66: =I66/H66 -> 0.2 | K66: =H66*0.8 -> 3192 | L66: =K66/H66 -> 0.8
A67: 3.4 | B67: 98559 | C67: TRATAMENTO DE FISSURAS COM TELA DE POLIÉSTER. AF_09/2023 | D67: 50 | E67: M | F67: =Planilha1!E67 -> 4.04 | G67: =Planilha1!F67 -> 2.31
F68: =Planilha1!E68 -> 202 | G68: =Planilha1!F68 -> 115.5 | H68: =Planilha1!G68 -> 317.5 | M68: =H68 -> 317.5 | N68: =M68/H68 -> 1
C70: Total do Grupo 3 | F70: =Planilha1!E70 -> 255954.07 | G70: =Planilha1!F70 -> 8412.89 | H70: =Planilha1!G70 -> 264366.96 | I70: =SUM(I61:I69) -> 52626.432 | J70: =I70/H70 -> 0.19906584 | K70: =SUM(K61:K69) -> 210505.73 | L70: =K70/H70 -> 0.79626338 | M70: =SUM(M61:M69) -> 317.5 | N70: =M70/H70 -> 0.0012009821 | O70: =SUM(O61:O69) -> 917.3 | P70: =O70/H70 -> 0.0034697982
A72: 4. | C72: REVESTIMENTOS
A73: 4.1 | B73: 88787 | C73: REVESTIMENTO CERÂMICO PARA PAREDES INTERNAS EM PASTILHAS DE PORCELANA 2,5 X 2,5 CM (PLACAS DE 30 X 30 CM), ALINHADAS A PRUMO, APLICADO EM PANOS SEM VÃOS. AF_10/2014 | D73: 130 | E73: M2 | F73: =Planilha1!E73 -> 470.4 | G73: =Planilha1!F73 -> 43.97 | H73: =Planilha1!G73 -> 0
F74: =Planilha1!E74 -> 61152 | G74: =Planilha1!F74 -> 5716.1 | H74: =Planilha1!G74 -> 66868.1 | Q74: =H74 -> 66868.1 | R74: =Q74/H74 -> 1
A75: 4.2 | B75: 88789 | C75: REVESTIMENTO CERÂMICO PARA PAREDES EXTERNAS EM PASTILHAS DE PORCELANA 2,5 X 2,5 CM (PLACAS DE 30 X 30 CM), ALINHADAS A PRUMO. AF_02/2023 | D75: 10 | E75: M2 | F75: =Planilha1!E75 -> 547.1 | G75: =Planilha1!F75 -> 59.15 | H75: =Planilha1!G75 -> 0
F76: =Planilha1!E76 -> 5471 | G76: =Planilha1!F76 -> 591.5 | H76: =Planilha1!G76 -> 6062.5 | M76: =H76*0.5 -> 3031.25 | N76: =M76/H76 -> 0.5 | O76: =H76*0.5 -> 3031.25 | P76: =O76/H76 -> 0.5
A77: 4.3 | B77: 104648 | C77: EMASSAMENTO COM MASSA LÁTEX, APLICAÇÃO EM PAREDE, DUAS DEMÃOS, LIXAMENTO ME CANIZADO. AF_04/2023 | D77: 1500 | E77: M2 | F77: =Planilha1!E77 -> 9.44 | G77: =Planilha1!F77 -> 10.73 | H77: =Planilha1!G77 -> 0
F78: =Planilha1!E78 -> 14160 | G78: =Planilha1!F78 -> 16095 | H78: =Planilha1!G78 -> 30255 | M78: =H78*0.5 -> 15127.5 | N78: =M78/H78 -> 0.5 | O78: =H78*0.5 -> 15127.5 | P78: =O78/H78 -> 0.5
A79: 4.4 | B79: 100717 | C79: LIXAMENTO MANUAL EM SUPERFÍCIES METÁLICAS EM OBRA. AF_01/2020 | D79: 949.72 | E79: M2 | F79: =Planilha1!E79 -> 3.97 | G79: =Planilha1!F79 -> 9.06 | H79: =Planilha1!G79 -> 0
F80: =Planilha1!E80 -> 3770.39 | G80: =Planilha1!F80 -> 8604.46 | H80: =Planilha1!G80 -> 12374.85 | M80: =H80*0.5 -> 6187.425 | N80: =M80/H80 -> 0.5 | O80: =H80*0.5 -> 6187.425 | P80: =O80/H80 -> 0.5
A81: 4.5 | B81: 88485 | C81: FUNDO SELADOR ACRÍLICO, APLICAÇÃO MANUAL EM PAREDE, UMA DEMÃO. AF_04/2023 | D81: 1500 | E81: M2 | F81: =Planilha1!E81 -> 2.32 | G81: =Planilha1!F81 -> 2.58 | H81: =Planilha1!G81 -> 0
F82: =Planilha1!E82 -> 3480 | G82: =Planilha1!F82 -> 3870 | H82: =Planilha1!G82 -> 7350 | O82: =H82 -> 7350 | P82: =O82/H82 -> 1
A83: 4.6 | B83: 88489 | C83: APLICAÇÃO MANUAL DE PINTURA COM TINTA LÁTEX ACRÍLICA EM PAREDES, DUAS DEMÃO S. AF_06/2014 | D83: 7273 | E83: M2 | F83: =Planilha1!E83 -> 10.5 | G83: =Planilha1!F83 -> 6.31 | H83: =Planilha1!G83 -> 0
F84: =Planilha1!E84 -> 76366.5 | G84: =Planilha1!F84 -> 45892.63 | H84: =Planilha1!G84 -> 122259.13 | M84: =H84*0.2 -> 24451.826 | N84: =M84/H84 -> 0.2 | O84: =H84*0.5 -> 61129.565 | P84: =O84/H84 -> 0.5 | Q84: =H84*0.3 -> 36677.739 | R84: =Q84/H84 -> 0.3
A85: 4.7 | B85: 88488 | C85: PINTURA LÁTEX ACRÍLICA PREMIUM, APLICAÇÃO MANUAL EM TETO, DUAS DEMÃOS. AF_0 4/2023 | D85: 832 | E85: M2 | F85: =Planilha1!E85 -> 11.18 | G85: =Planilha1!F85 -> 8.76 | H85: =Planilha1!G85 -> 0
F86: =Planilha1!E86 -> 9301.76 | G86: =Planilha1!F86 -> 7288.32 | H86: =Planilha1!G86 -> 16590.08 | M86: =H86*0.2 -> 3318.016 | N86: =M86/H86 -> 0.2 | O86: =H86*0.5 -> 8295.04 | P86: =O86/H86 -> 0.5 | Q86: =H86*0.3 -> 4977.024 | R86: =Q86/H86 -> 0.3
A87: 4.8 | B87: 414701 | C87: PINTURA ACRILICO EMBORRACHA 2 DEMAOS EXTERNO | D87: 470 | E87: M2 | F87: =Planilha1!E87 -> 38.99 | G87: =Planilha1!F87 -> 23.51 | H87: =Planilha1!G87 -> 0
F88: =Planilha1!E88 -> 18325.3 | G88: =Planilha1!F88 -> 11049.7 | H88: =Planilha1!G88 -> 29375 | O88: =H88*0.5 -> 14687.5 | P88: =O88/H88 -> 0.5 | Q88: =H88*0.5 -> 14687.5 | R88: =Q88/H88 -> 0.5
A89: 4.9 | B89: 74064 | C89: FUNDO ANTICORROSIVO A BASE DE OXIDO DE FERRO (ZARCAO), UMA DEMAO | D89: 949.72 | E89: M2 | F89: =Planilha1!E89 -> 10.41 | G89: =Planilha1!F89 -> 14.09 | H89: =Planilha1!G89 -> 0
F90: =Planilha1!E90 -> 9886.59 | G90: =Planilha1!F90 -> 13381.55 | H90: =Planilha1!G90 -> 23268.14 | M90: =H90*0.3 -> 6980.442 | N90: =M90/H90 -> 0.3 | O90: =H90*0.3 -> 6980.442 | P90: =O90/H90 -> 0.3 | Q90: =H90*0.4 -> 9307.256 | R90: =Q90/H90 -> 0.4
A91: 4.10 | B91: 73924 | C91: PINTURA ESMALTE FOSCO, DUAS DEMAOS, SOBRE SUPERFICIE METALICA | D91: 949.72 | E91: M2 | F91: =Planilha1!E91 -> 20.65 | G91: =Planilha1!F91 -> 27.66 | H91: =Planilha1!G91 -> 0
F92: =Planilha1!E92 -> 19611.72 | G92: =Planilha1!F92 -> 26269.26 | H92: =Planilha1!G92 -> 45880.98 | O92: =H92*0.5 -> 22940.49 | P92: =O92/H92 -> 0.5 | Q92: =H92*0.5 -> 22940.49 | R92: =Q92/H92 -> 0.5
A93: 4.11 | B93: 72194 | C93: RECOLOCACAO DE RODAPE PORCELANATO, CONSIDERANDO REAPROVEITAMENTO DO MATERIAL | D93: 1000 | E93: M | F93: =Planilha1!E93 -> 2.05 | G93: =Planilha1!F93 -> 8.08 | H93: =Planilha1!G93 -> 0
F94: =Planilha1!E94 -> 2050 | G94: =Planilha1!F94 -> 8080 | H94: =Planilha1!G94 -> 10130 | K94: =H94*0.2 -> 2026 | L94: =K94/H94 -> 0.2 | M94: =H94*0.4 -> 4052 | N94: =M94/H94 -> 0.4 | O94: =H94*0.4 -> 4052 | P94: =O94/H94 -> 0.4
A95: 4.12 | B95: 92862 | C95: CARPETE COMERCIAL EM PLACAS | D95: 110 | E95: M2 | F95: =Planilha1!E95 -> 306.33 | G95: =Planilha1!F95 -> 20.8 | H95: =Planilha1!G95 -> 0
F96: =Planilha1!E96 -> 33696.3 | G96: =Planilha1!F96 -> 2288 | H96: =Planilha1!G96 -> 35984.3 | Q96: =H96 -> 35984.3 | R96: =Q96/H96 -> 1
A97: 4.13 | B97: 96115 | C97: FORRO DE FIBRA MINERAL, PARA AMBIENTES COMERCIAIS, INCLUSIVE ESTRUTURA DE F IXAÇÃO. AF_05/2017_P | D97: 1200 | E97: M2 | F97: =Planilha1!E97 -> 114.17 | G97: =Planilha1!F97 -> 14.89 | H97: =Planilha1!G97 -> 0
F98: =Planilha1!E98 -> 137004 | G98: =Planilha1!F98 -> 17868 | H98: =Planilha1!G98 -> 154872 | Q98: =H98 -> 154872 | R98: =Q98/H98 -> 1
C100: Total do Grupo 4 | F100: =Planilha1!E100 -> 394275.56 | G100: =Planilha1!F100 -> 166994.52 | H100: =Planilha1!G100 -> 561270.08 | K100: =SUM(K72:K99) -> 2026 | L100: =K100/H100 -> 0.0036096704 | M100: =SUM(M72:M99) -> 63148.459 | N100: =M100/H100 -> 0.11250993 | O100: =SUM(O72:O99) -> 149781.21 | P100: =O100/H100 -> 0.26686121 | Q100: =SUM(Q72:Q99) -> 346314.41 | R100: =Q100/H100 -> 0.61701919
A102: 5. | C102: ESQUADRIAS E PORTAS
A103: 5.1 | B103: 123456 | C103: JANELA QUADRO FIXO ALUM C/ VIDRO LAMIN 8MM | D103: 2.64 | E103: M2 | F103: =Planilha1!E103 -> 698.94 | G103: =Planilha1!F103 -> 11.65
F104: =Planilha1!E104 -> 1845.2 | G104: =Planilha1!F104 -> 30.76 | H104: =Planilha1!G104 -> 1875.96 | O104: =H104 -> 1875.96 | P104: =O104/H104 -> 1
A105: 5.2 | B105: MERCADO | C105: PM 01 - KIT DE PORTA DE MADEIRA LAMINADA 90 X 210 COMPLETA COM INSTAL E FERRAGEM | D105: 26 | E105: un | F105: =Planilha1!E105 -> 1545.55 | G105: =Planilha1!F105 -> 0
F106: =Planilha1!E106 -> 40184.3 | G106: =Planilha1!F106 -> 0 | H106: =Planilha1!G106 -> 40184.3 | O106: =H106 -> 40184.3 | P106: =O106/H106 -> 1
A107: 5.3 | B107: MERCADO | C107: PM 02 - KIT DE PORTA DE MADEIRA LAMINADA 80 X 210 COMPLETA COM INSTAL E FERRAGEM | D107: 2 | E107: UN | F107: =Planilha1!E107 -> 1519.57 | G107: =Planilha1!F107 -> 0
F108: =Planilha1!E108 -> 3039.14 | G108: =Planilha1!F108 -> 0 | H108: =Planilha1!G108 -> 3039.14 | O108: =H108 -> 3039.14 | P108: =O108/H108 -> 1
...

Sheet Planilha3
B3: CRONOGRAMA FÍSICO-FINANCEIRO
B4: Etapa | C4: Prazo | D4: Parcela | E4: Porcentagem
B5: 1 | C5: 30 dias | D5: =Planilha2!I235 -> 190327.08 | E5: =Planilha2!J235 -> 0.077834056
B6: 2 | C6: 60 dias | D6: =Planilha2!K235 -> 471052.4 | E6: =Planilha2!L235 -> 0.19263638
B7: 3 | C7: 90 dias | D7: =Planilha2!M235 -> 381585.51 | E7: =Planilha2!N235 -> 0.15604899
B8: 4 | C8: 120 dias | D8: =Planilha2!O235 -> 664505.24 | E8: =Planilha2!P235 -> 0.27174871
B9: 5 | C9: 150 dias | D9: =Planilha2!Q235 -> 737722.04 | E9: =Planilha2!R235 -> 0.30169065
B10: Total | C10: =C9 -> 150 dias | D10: =SUM(D5:D9) -> 2445192.3 | E10: =SUM(E5:E9) -> 0.99995879
